BEGIN:VCALENDAR
BEGIN:VEVENT
SUMMARY:Talk by Debabrota Basu (INRIA Lille)
DTSTART:20231108T093000Z
DTEND:20231108T103000Z
UID:4044421a-b2ed-4d6c-b055-ccfa6c5a7996
DESCRIPTION:When Privacy meets Partial Information: Refining the Different
 ial  Privacy Definitions\, Lower Bounds\, and Algorithm Designs for Sequen
 tial  Learning\n\nLocation:\nCWI\, L120
LOCATION:CWI\, L120
END:VEVENT
END:VCALENDAR
