BEGIN:VCALENDAR
BEGIN:VEVENT
SUMMARY:Scientific Computing Seminar Sagy Ephrati
DTSTART:20230522T090000Z
DTEND:20230522T100000Z
UID:97773800-386b-471d-9d71-ea0be32226b5
DESCRIPTION:Data-driven stochastic forcing for uncertainty quantification 
 and subgrid-scale modeling in geophysical fluid dynamics\n\nLocation:\nL12
 0 / Zoom
LOCATION:L120 / Zoom
END:VEVENT
END:VCALENDAR
