BEGIN:VCALENDAR
BEGIN:VEVENT
SUMMARY:Open Dag Science Park Amsterdam 2011
DTSTART:20111008T080000Z
DTEND:20111008T130000Z
UID:10893454-c6ee-4ce0-8bdf-458fb12fa36b
DESCRIPTION:Op zaterdagmiddag 8 oktober wordt de jaarlijkse Open Dag van h
 et Science Park Amsterdam georganiseerd. Welkom! Ontdek actie en reactie i
 n wiskunde en informatica bij het CWI.\n\nLocation:\nScience Park 123-125\
 , Amsterdam
LOCATION:Science Park 123-125\, Amsterdam
END:VEVENT
BEGIN:VEVENT
SUMMARY:Open dag Science Park Amsterdam 2012
DTSTART:20121006T060000Z
DTEND:20121006T130000Z
UID:b1aef9b9-fecd-4196-b250-352b13f84be4
DESCRIPTION:Maak kennis met Alan Turing: wiskundige\, oorlogsheld en compu
 terpionier.\n\nLocation:\nScience Park Amsterdam
LOCATION:Science Park Amsterdam
END:VEVENT
BEGIN:VEVENT
SUMMARY:CWI Open Dag 2013
DTSTART:20131005T080000Z
DTEND:20131005T130000Z
UID:15359c4e-f71b-409e-8488-a08fad2ef7f0
DESCRIPTION:Science Park Open Dag 2013 De Open Dag heeft als thema 'Schatk
 amer van de wetenschap'.Waar?Amsterdam Science Park: CWI\,  Nikhef\, AMOL
 F\, UVA-FNWI\, SURFsara en Sportcentrum UniversumWanneer?Zaterdagmiddag 5 
 oktober 2013\, van 12.00 tot 17.00 uur\n\nLocation:\nCWI\, Science Park 12
 3
LOCATION:CWI\, Science Park 123
END:VEVENT
BEGIN:VEVENT
SUMMARY:CWI Open Dag 2014
DTSTART:20141004T080000Z
DTEND:20141004T130000Z
UID:25bf0a7f-3116-4127-8b33-3f86fcbede6b
DESCRIPTION:Op zaterdag 4 oktober 2014 bent u weer van harte welkom op de 
 Open Dag van het Amsterdam Science Park.  Op het CWI kunt u tussen 12.00 
 en 17.00 de volgende activiteiten beleven:'   Wiskunde- en informaticamar
 kt\n\nLocation:\nCWI\, Science Park 123
LOCATION:CWI\, Science Park 123
END:VEVENT
BEGIN:VEVENT
SUMMARY:Amsterdam Science Park Open Dag 2016
DTSTART:20161001T080000Z
DTEND:20161001T130000Z
UID:27c96217-5ac2-452a-b91f-83250c57cbf1
DESCRIPTION:CWI doet mee aan de Amsterdam Science Park Open Dag tijdens he
 t Weekend van de Wetenschap. Op zaterdag 1 oktober 2016 is het gebouw geop
 end van 12.00 - 17.00 voor alle belangstellenden. Wat is er allemaal te do
 en op het CWI?
END:VEVENT
BEGIN:VEVENT
SUMMARY:CWI Open Dag 7 oktober 2017
DTSTART:20171007T100000Z
DTEND:20171007T150000Z
UID:bea8cb56-0ae4-4ef4-ba68-042131498eea
DESCRIPTION:CWI doet mee aan de Amsterdam Science Park Open Dag tijdens he
 t Weekend van de Wetenschap. Op zaterdag 7 oktober 2017 is het gebouw geop
 end van 12.00 - 17.00 voor alle belangstellenden.
END:VEVENT
BEGIN:VEVENT
SUMMARY:CWI Open Dag 6 oktober 2018
DTSTART:20181006T100000Z
DTEND:20181006T150000Z
UID:bfa952ff-5963-4faa-9e20-5699ba731903
DESCRIPTION:CWI doet mee aan de Amsterdam Science Park Open Dag tijdens he
 t Weekend van de Wetenschap. Op zaterdag 6 oktober 2018 is het gebouw geop
 end van 12.00 - 17.00 voor alle belangstellenden.\n\nLocation:\nCWI buildi
 ng
LOCATION:CWI building
END:VEVENT
BEGIN:VEVENT
SUMMARY:CWI Open Dag 5 oktober 2019
DTSTART:20191005T100000Z
DTEND:20191005T150000Z
UID:f7e06c9b-7f23-462e-9ea3-d4fa3ee5f826
DESCRIPTION:CWI doet mee aan de Amsterdam Science Park Open Dag tijdens he
 t Weekend van de Wetenschap. Op zaterdag 5 oktober 2019 is het gebouw geop
 end van 12.00 - 17.00 voor alle belangstellenden. Wat is er allemaal te do
 en op het CWI?\n\nLocation:\nCWI - Amsterdam Science Park
LOCATION:CWI - Amsterdam Science Park
END:VEVENT
BEGIN:VEVENT
SUMMARY:CANCELLED: CWI Open Dag 3 oktober 2020
DTSTART:20201003T100000Z
DTEND:20201003T150000Z
UID:f62b76f1-5f1e-4c48-a23c-906187882ad4
DESCRIPTION:CANCELLED: De Open Dag van het Amsterdam Science Park gaat in 
 2020 niet door. Het ontvangen van grote groepen bezoekers in onze gebouwen
  is door de coronamaatregelen nu niet mogelijk. Er is daarom besloten om\,
  in aansluiting op de beslissing van het Weekend van de Wetenschap\, de Op
 en Dag van 2020 te annuleren.
END:VEVENT
BEGIN:VEVENT
SUMMARY:Open Dag Amsterdam Science Park (2 okt 2021)
DTSTART:20211002T090000Z
DTEND:20211002T150000Z
UID:91081621-6c6f-49d2-be8e-e89f59994e30
DESCRIPTION:CWI doet mee aan de Amsterdam Science Park Open Dag tijdens he
 t Weekend van de Wetenschap op zaterdag 2 oktober 2021.\n\nLocation:\nAmst
 erdam Science Park
LOCATION:Amsterdam Science Park
END:VEVENT
BEGIN:VEVENT
SUMMARY:Open Dag Amsterdam Science Park (1 okt 2022)
DTSTART:20221001T100000Z
DTEND:20221001T150000Z
UID:726ff3f6-2835-4cea-be57-27c3080ef590
DESCRIPTION:CWI doet mee aan de Amsterdam Science Park Open Dag tijdens he
 t Weekend van de Wetenschap. Op zaterdag 1 oktober 2022 is het gebouw geop
 end van 12.00 - 17.00 voor alle belangstellenden. Wat is er allemaal te do
 en op het CWI?\n\nLocation:\nCWI
LOCATION:CWI
END:VEVENT
BEGIN:VEVENT
SUMMARY:Wetenschapsdag (Open Dag) Amsterdam Science Park
DTSTART:20241005T100000Z
DTEND:20241005T150000Z
UID:377e9f2b-961e-4b4e-b24b-8d95673593c2
DESCRIPTION:CWI doet mee aan de Amsterdam Science Park Wetenschapsdag tijd
 ens het Weekend van de Wetenschap. Op zaterdag 5 oktober 2024 is het gebou
 w geopend van 12.00 - 17.00 voor alle belangstellenden.\n\nLocation:\nCWI\
 , Science Park 123
LOCATION:CWI\, Science Park 123
END:VEVENT
BEGIN:VEVENT
SUMMARY:Wetenschapsdag Amsterdam Science Park
DTSTART:20251004T100000Z
DTEND:20251004T150000Z
UID:8fa889c5-c2b7-4d79-a68a-ea02a184d9df
DESCRIPTION:CWI doet mee aan de Amsterdam Science Park wetenschapsdag tijd
 ens het weekend van de wetenschap. Op zaterdag 4 oktober 2025 is het gebou
 w geopend van 12.00 - 17.00 voor alle belangstellenden.\n\nLocation:\nCWI\
 , Science Park 123
LOCATION:CWI\, Science Park 123
END:VEVENT
END:VCALENDAR
