BEGIN:VCALENDAR
BEGIN:VEVENT
SUMMARY:SEMINAR++ part 3 - Scientific Machine Learning (Semester Programme
 )
DTSTART:20231113T080000Z
DTEND:20231113T160000Z
UID:cc4e9000-d0eb-4a56-b8a9-1f7653de9dc0
DESCRIPTION:Björn List\, Learning PDE Simulators for Applica7ons in Turbu
 lence Modeling\n\nLocation:\nL120
LOCATION:L120
END:VEVENT
END:VCALENDAR
