BEGIN:VCALENDAR
BEGIN:VEVENT
SUMMARY:SEMINAR++ part 2 - Scientific Machine Learning (Semester Programme
 )
DTSTART:20231106T100000Z
DTEND:20231107T110000Z
UID:02faaba4-8035-4e2f-8486-a94dfc6259ad
DESCRIPTION:Paola Cinnella\, Data-driven correction and uncertainty quanti
 fication of turbulence models using Bayesian learning and multi-model ense
 mbles\n\nLocation:\nL017
LOCATION:L017
END:VEVENT
END:VCALENDAR
