BEGIN:VCALENDAR
BEGIN:VEVENT
SUMMARY:CWI Lectures 25 Years of Concurrency Theory at CWI (2008)
DTSTART:20080523T093000Z
DTEND:20080523T133000Z
UID:9cb46d3c-5a14-41ad-81b3-c67e159ed7e6
DESCRIPTION:25 Years of Concurrency Theory at CWI. Speakers: 	Jos Baeten\,
  Gerard Holzmann\, Jan Bergstra\, Moshe Vardi. The SEN2 group at CWI has p
 layed a prominent role in concurrency theory since the early 80's\, with a
 n emphasis on algebraic techniques for the specification and verification 
 of software systems. Five consecutive leaders of SEN2 started research gro
 ups at Dutch universities. Now that concurrency theory is so well establis
 hed in The Netherlands\, CWI has decided to shift the focus of SEN2 to ser
 vice-oriented computing.
END:VEVENT
BEGIN:VEVENT
SUMMARY:CWI Lectures in Mathematics and Computer Science (2009)
DTSTART:20090604T080000Z
DTEND:20090604T140000Z
UID:5ecf3d62-1151-4bca-a5ef-97581e9b10ff
DESCRIPTION:What does city heating have to do with cancer research? How do
  cells know how to make a blood vessel - can they communicate and organize
  themselves? In January 2009\, a new research group in the life sciences h
 as started at CWI. We celebrate this with this year’s edition of the CWI
  Lectures in Mathematics and Computer Science.
END:VEVENT
BEGIN:VEVENT
SUMMARY:CWI Lectures in Mathematics and Computer Science (2010)
DTSTART:20100625T091000Z
DTEND:20100625T140000Z
UID:064e800e-aee2-41ff-baf5-cc5003231b65
DESCRIPTION:Op vrijdag 25 juni organiseert het Centrum Wiskunde & Informat
 ica (CWI) in Amsterdam de jaarlijkse CWILectures. Internationaal gerenomme
 erde sprekers zullen dit jaar hun visie geven op het thema ‘Data Intensi
 ve Research’. Het programma bestaat onder meer uit bijdragen van hoofdsp
 rekers Hector Garcia-Molina (Stanford University\, U.S.A.) en Alex Szalay 
 (Johns Hopkins University).
END:VEVENT
BEGIN:VEVENT
SUMMARY:CWI Lectures – Control and System Theory (2011)
DTSTART:20110614T093000Z
DTEND:20110614T140000Z
UID:edd49ed5-b4cc-4eba-851f-76f262f2e4f2
DESCRIPTION:As technology is developing\, more and more complex tasks are 
 expected to be performed by machines or computers without any human interv
 ention. An example is the control of unmanned straddle carriers on a conta
 iner terminal without being instructed by a human driver. A challenge for 
 mathematicians is to find control laws for such sophisticated systems.\n\n
 Location:\nCentrum Wiskunde & Informatica\, Turing Room\, Z011
LOCATION:Centrum Wiskunde & Informatica\, Turing Room\, Z011
END:VEVENT
BEGIN:VEVENT
SUMMARY:CWI Lectures - Understanding Software (2012)
DTSTART:20120614T053000Z
DTEND:20120614T140000Z
UID:1ad32740-7cfc-4162-a612-e069846a43e0
DESCRIPTION:We cordially invite you to attend the "CWI Lectures on Underst
 anding Software" to be held on June 14th 2012 at Centrum Wiskunde & Infor
 matica in Amsterdam.\n\nLocation:\nTuring
LOCATION:Turing
END:VEVENT
BEGIN:VEVENT
SUMMARY:CWI Lexures: Discrete Mathematics and Optimization (2013)
DTSTART:20130425T063000Z
DTEND:20130425T150000Z
UID:24b171e8-6121-4eda-9598-da9bf4deda4b
DESCRIPTION:We cordially invite you to attend the 'CWI Lexures on Discrete
  Mathematics and Optimization' on 25 April 2013 at the Centrum Wiskunde & 
 Informatica in Amsterdam. This year's CWI Lectures are organized in honour
  of Lex Schrijver\, on the occasion of his retirement.\n\nLocation:\nCWI\,
  Turing room
LOCATION:CWI\, Turing room
END:VEVENT
BEGIN:VEVENT
SUMMARY:CWI Lectures: Socially-Aware Multimedia (2014)
DTSTART:20140522T080000Z
DTEND:20140522T160000Z
UID:ac2de66f-566c-487d-87f9-9480987b965a
DESCRIPTION:The research of the Distributed and Interactive Systems (DIS) 
 group was covered at the CWI Lectures 2014 on 22 May 2014 at CWI\, Amsterd
 am. Theme of this event was Socially-Aware Multimedia\, covering the areas
  of Multimedia Systems\, Content Analysis\, Human-Computer Interaction and
  Hypermedia.\n\nLocation:\nCWI
LOCATION:CWI
END:VEVENT
BEGIN:VEVENT
SUMMARY:CWI Lectures on Quantum Computing (2015)
DTSTART:20151203T074500Z
DTEND:20151203T160000Z
UID:526b5d00-4a4f-4a14-8d20-8feaff9e2fb6
DESCRIPTION:We cordially invite you to attend the 'CWI Lectures on Quantum
  Computing' on 3 December 2015 at Centrum Wiskunde & Informatica in Amster
 dam. This day is dedicated to the launch of the QuSoft research centre for
  quantum software. Several internationally renowned speakers will bring yo
 u up to date on the exciting topic of quantum computing. The symposium is 
 aimed towards a general academic public.\n\nLocation:\nCWI
LOCATION:CWI
END:VEVENT
BEGIN:VEVENT
SUMMARY:CWI Lectures on Machine Learning (2017)
DTSTART:20171123T110000Z
DTEND:20171123T170000Z
UID:dd5e71a8-cec9-4b92-b622-cbbd0b1420e3
DESCRIPTION:This year\, the CWI Lectures will be held on Thursday 23 Novem
 ber. The theme will be Machine Learning and the afternoon will be organize
 d by CWI's newly established Machine Learning group. The speakers Neil Law
 rence\,  Suchi Saria\, Max Welling and Csaba Szepesvári are all world lea
 ding machine learning researchers.\n\nLocation:\nTuringroom at Congress Ce
 ntre Amsterdam Science Park
LOCATION:Turingroom at Congress Centre Amsterdam Science Park
END:VEVENT
BEGIN:VEVENT
SUMMARY:CWI Lectures on privacy and security (2018)
DTSTART:20181115T110000Z
DTEND:20181115T170000Z
UID:e786f79d-9f50-44ed-9e72-8d86bc5a6a89
DESCRIPTION:The CWI Lectures 2018 will be held on Thursday 15 November and
  the symposium is aimed towards a general academic audience. The theme wil
 l be Privacy and Security and the program committee for this afternoon con
 sists of Prof. Ronald Cramer (CWI\, Leiden University) and Dr. Jaap-Henk H
 oepman (Radboud University\, University of Groningen\, Tilburg University)
 .\n\nContact:\nDanielle Kollerie\nkollerie@cwi.nl\n\nLocation:\nTuring zaa
 l
LOCATION:Turing zaal
END:VEVENT
BEGIN:VEVENT
SUMMARY:CWI Lectures on Programming & Cryptology (2019)
DTSTART:20191121T110000Z
DTEND:20191122T120000Z
UID:80c09120-dd18-4e96-b997-8e2a55f40dc4
DESCRIPTION:Centrum Wiskunde & Informatica organizes the annual CWI Lectur
 es on 21 and 22 November 2019.\n\nContact:\nDanielle Kollerie\nkollerie@cw
 i.nl\n\nLocation:\nTuringzaal - Amsterdam Science Park Congress Centre
LOCATION:Turingzaal - Amsterdam Science Park Congress Centre
END:VEVENT
BEGIN:VEVENT
SUMMARY:CWI Lectures on Decision Making under Uncertainty (2021)
DTSTART:20211104T120000Z
DTEND:20211104T170000Z
UID:cd2f5f24-4015-4ad6-8270-de44008b694d
DESCRIPTION:This year’s edition of the CWI Lectures revolves around Deci
 sion Making under Uncertainty.\n\nContact:\nd.c.kollerie@cwi.nl\n\nLocatio
 n:\nAmsterdam Congress Centre and/or online via Zoom
LOCATION:Amsterdam Congress Centre and/or online via Zoom
END:VEVENT
BEGIN:VEVENT
SUMMARY:CWI Lectures on Algebraic and Geometric Methods in Optimization (2
 022)
DTSTART:20221116T120000Z
DTEND:20221116T170000Z
UID:f4d41a91-b707-4b5f-99b2-68c5f74b7c17
DESCRIPTION:These CWI Lectures are devoted to novel solution methods that 
 combine dedicated algebraic and geometric approaches and sophisticated com
 putational tools from mathematics and computer science.
END:VEVENT
BEGIN:VEVENT
SUMMARY:CWI Lectures on Digital Cultural Heritage
DTSTART:20231116T090000Z
DTEND:20231116T180000Z
UID:a07b71b0-7204-4137-bed6-698f847564e2
DESCRIPTION:Where mathematics\, computer science and humanities meet.\n\nL
 ocation:\nCentrum Wiskunde & Informatica
LOCATION:Centrum Wiskunde & Informatica
END:VEVENT
BEGIN:VEVENT
SUMMARY:CWI Lectures & Dijkstra Fellowship for Marcin Żukowski
DTSTART:20241121T091500Z
DTEND:20241121T163000Z
UID:a984dd99-0759-47da-a300-bed5f96abba2
DESCRIPTION:Since 2019 and every five years\, CWI celebrates the granting 
 of the Dijkstra Fellowships to honour scientists who have accomplished gro
 undbreaking research in mathematics and computer science. \nCWI has electe
 d Marcin Żukowski for the 2024 Dijkstra Fellowship. With this honorary ti
 tle\, CWI recognizes his pioneering role in the development of database ma
 nagement systems that had great societal impact\, and his successful entre
 preneurial career. The Fellowship will be awarded on Thursday 21 November.
 \n\nLocation:\nCWI\, Amsterdam Science Park Congress Centre\, Science Park
  125
LOCATION:CWI\, Amsterdam Science Park Congress Centre\, Science Park 125
END:VEVENT
BEGIN:VEVENT
SUMMARY:Lezingen en uitreiking Dijkstra Fellowship aan Marcin Żukowski
DTSTART:20241121T091500Z
DTEND:20241121T163000Z
UID:a984dd99-0759-47da-a300-bed5f96abba2
DESCRIPTION:Marcin Żukowski krijgt de Dijkstra Fellowship 2024. Met deze 
 eretitel erkent het CWI zijn pioniersrol in de ontwikkeling van databasema
 nagementsystemen met grote maatschappelijke impact\, en zijn succesvolle o
 ndernemerscarrière. De Fellowship wordt uitgereikt op donderdag 21 novemb
 er.\n\nLocation:\nCWI\, Amsterdam Science Park Congress Centre\, Science P
 ark 125
LOCATION:CWI\, Amsterdam Science Park Congress Centre\, Science Park 125
END:VEVENT
BEGIN:VEVENT
SUMMARY:CWI Lectures on Secure Computation
DTSTART:20251120T083000Z
DTEND:20251120T170000Z
UID:8a19745a-9510-4ea6-905a-6d4497d94e5b
DESCRIPTION:In 2025\, the CWI Lectures are dedicated to the future of secu
 re computation. How we can harness data while protecting privacy and confi
 dentiality? The programme features distinguished speakers from MIT\, ETH Z
 urich\, KU Leuven and Dutch Universities. \nParticipation is free after re
 gistration.\n\nLocation:\nTuring Hall\, Congress Center\, Science Park 125
LOCATION:Turing Hall\, Congress Center\, Science Park 125
END:VEVENT
END:VCALENDAR
