BEGIN:VCALENDAR
BEGIN:VEVENT
SUMMARY:Scientific Computing Seminar Taniya Kapoor (Wageningen University)
DTSTART:20260618T090000Z
DTEND:20260618T100000Z
UID:742909af-2dfb-430e-986e-9780af2af4a6
DESCRIPTION:\n\nLocation:\nCWI\, room L120
LOCATION:CWI\, room L120
END:VEVENT
END:VCALENDAR
