BEGIN:VCALENDAR
BEGIN:VEVENT
SUMMARY:Scientific Computing Seminar Joey Dekker
DTSTART:20260416T090000Z
DTEND:20260416T100000Z
UID:f520e147-af48-4fe7-9998-dc0581881211
DESCRIPTION:Mantis.jl: FEEC-based structure-preserving discretisations in 
 Julia\n\nLocation:\nCWI\, room L120
LOCATION:CWI\, room L120
END:VEVENT
END:VCALENDAR
