BEGIN:VCALENDAR
BEGIN:VEVENT
SUMMARY:Scientific Computing Seminar Alexander Heinlein (TU Delft)
DTSTART:20260702T090000Z
DTEND:20260702T100000Z
UID:f8e808ce-cdfa-4737-8fb7-54effd9d0148
DESCRIPTION:\n\nLocation:\nCWI\, room L120
LOCATION:CWI\, room L120
END:VEVENT
END:VCALENDAR
