BEGIN:VCALENDAR
BEGIN:VEVENT
SUMMARY:Open Access: turning promises into reality
DTSTART:20190125T133000Z
DTEND:20190125T143000Z
UID:354f4920-e6ef-40b1-8c65-02133b5916db
DESCRIPTION:CWI organizes a meeting concerning Open Access aimed for a bro
 ad audience. Speakers Prof. Jos Baeten\, Prof. Jean-Sébastien Caux and Vi
 tek Tracz. Please register (free of charge) by sending an email to: susann
 e.van.dam@cwi.nl\n\nLocation:\nTuring room\, Science Park Congress Centre\
 , Amsterdam
LOCATION:Turing room\, Science Park Congress Centre\, Amsterdam
END:VEVENT
END:VCALENDAR
