BEGIN:VCALENDAR
BEGIN:VEVENT
SUMMARY:Online tutorial lectures on Polynomial Optimization (POEMA)
DTSTART:20200527T140000Z
DTEND:20200527T150000Z
UID:e355ea7f-ebba-4e96-a747-1cdcd7035db2
DESCRIPTION:This is to announce the forthcoming series of online lectures 
 on the subject of Polynomial Optimization and Applications\, within the Ma
 rie-Curie ITN Network POEMA (Polynomial Optimization\, Efficiency through 
 Moments and Algebra).  The lectures will be weekly\, on Wednesday at 16h00
 \, starting on Wednesday 27 May. They will be given by the following scien
 tists: - Didier Henrion (LAAS-Toulouse) - Edouard Pauwels (Institut de Rec
 herche en Informatique de Toulouse) - Cordian Riener (The Artic University
  of Norway) - Mihai Putinar (University of California at Santa Barbara)  P
 articipation is free but you need to register in order to be given access 
 to the lectures. Details can be found at the POEMA website.
END:VEVENT
END:VCALENDAR
