BEGIN:VCALENDAR
BEGIN:VEVENT
SUMMARY:N&O Seminar: Marek Elias (CWI)
DTSTART:20210617T113000Z
DTEND:20210617T123000Z
UID:364818d4-0f1b-4842-9bd8-336acedb7705
DESCRIPTION:Everyone is welcome to attend the on-line N&O seminar with Mar
 ek Elias. Title of his lecture: Differentially Private Release of Syntheti
 c Graphs. Please contact Daniel Dadush for the zoom link.\n\nContact:\nDan
 iel Dadush\ndadush@cwi.nl
END:VEVENT
END:VCALENDAR
