BEGIN:VCALENDAR
BEGIN:VEVENT
SUMMARY:N&O seminar: Lucas Slot (CWI)
DTSTART:20190529T090000Z
DTEND:20190529T100000Z
UID:cb114f16-9b90-4e0e-972d-96c91922a283
DESCRIPTION:Everyone is welcome to attend the N&O lecture of Lucas Slot wi
 th the title 'Improved convergence analysis of Lasserre's measure-based up
 per bounds for polynomial minimization on compact sets'.\n\nContact:\nDani
 el Dadush\nD.N.Dadush@cwi.nl\n\nLocation:\nRoom L016 CWI
LOCATION:Room L016 CWI
END:VEVENT
END:VCALENDAR
