BEGIN:VCALENDAR
BEGIN:VEVENT
SUMMARY:N&O seminar: Christopher Hojny (TU Darmstadt)
DTSTART:20190327T100000Z
DTEND:20190327T110000Z
UID:fc3cd0c3-30a9-4d6d-9732-5098e25108ab
DESCRIPTION:Everyone is welcome to attend the public lecture of Christophe
 r Hojny (TU Darmstadt) withe the title 'Strong IP Formulations Need Large 
 Coefficients'.\n\nLocation:\nRoom L016 at CWI\, Science Park 123 in Amster
 dam
LOCATION:Room L016 at CWI\, Science Park 123 in Amsterdam
END:VEVENT
END:VCALENDAR
