BEGIN:VCALENDAR
BEGIN:VEVENT
SUMMARY:N&O seminar: Arne Heimendahl (U. Cologne)
DTSTART:20190411T113000Z
DTEND:20190411T123000Z
UID:c6a4ee1f-b45e-49c9-b613-d44058bda9a9
DESCRIPTION:Everyone is welcome to attend the N&O lecture of Arne Heimenda
 hl\, with the title 'Faces of the stabilizer polytope and robustness measu
 res'.\n\nContact:\nMonique Laurent\n\nLocation:\nCWI\, Lecture room L120
LOCATION:CWI\, Lecture room L120
END:VEVENT
END:VCALENDAR
