BEGIN:VCALENDAR
BEGIN:VEVENT
SUMMARY:Dutch Seminar on Optimization (N&O)
DTSTART:20230523T140000Z
DTEND:20230523T150000Z
UID:de6c4c04-2c85-489a-8756-e9c98cb32292
DESCRIPTION:Dutch Seminar on Optimization with Anupam Gupta (Carnegie Mell
 on University)\n\nContact:\nZhuan Koh\nZhuan.Koh@cwi.nl\n\nLocation:\nOnli
 ne
LOCATION:Online
END:VEVENT
END:VCALENDAR
