BEGIN:VCALENDAR
BEGIN:VEVENT
SUMMARY:Neuromorphic Computing Netherlands (NCN2021)
DTSTART:20210924T105000Z
DTEND:20210924T160000Z
UID:38a463a2-4f77-49c0-822b-f361ffdce20f
DESCRIPTION:Neuromorphic Computing is rapidly emerging as the principle pa
 radigm for EdgeAI. In this workshop\, we aim to bring together researchers
  and practitioners from algorithmic\, architectural and application domain
 s in the Netherlands.\n\nContact:\nSander.Bohte@cwi.nl\nsander.bohte@cwi.n
 l\n\nLocation:\nCWI\, Euler room
LOCATION:CWI\, Euler room
END:VEVENT
END:VCALENDAR
