BEGIN:VCALENDAR
BEGIN:VEVENT
SUMMARY:PhD defence Lynn Sörensen (Machine Learning)
DTSTART:20230117T140000Z
DTEND:20230117T150000Z
UID:793fce57-ba64-41eb-abdb-223cbce31ec6
DESCRIPTION:Deep Neural Network Models of Visual Cognition\n\nContact:\nLy
 nn Sörensen\nl.k.a.sorensen@uva.nl\n\nLocation:\nUvA Agnietenkapel\, Oude
 zijds Voorburgwal 231\, Amsterdam
LOCATION:UvA Agnietenkapel\, Oudezijds Voorburgwal 231\, Amsterdam
END:VEVENT
END:VCALENDAR
