BEGIN:VCALENDAR
BEGIN:VEVENT
SUMMARY:PhD defence Judith ter Schure (Machine Learning)
DTSTART:20220407T130000Z
DTEND:20220407T140000Z
UID:ff784b93-f9e7-4249-9f19-036a1cfdd34c
DESCRIPTION:ALL-IN meta-analysis\n\nContact:\nJudith ter Schure\nschure@cw
 i.nl\n\nLocation:\nUniversiteit Leiden\, Rapenburg 73\, Groot Auditorium
LOCATION:Universiteit Leiden\, Rapenburg 73\, Groot Auditorium
END:VEVENT
END:VCALENDAR
