BEGIN:VCALENDAR
BEGIN:VEVENT
SUMMARY:PhD defense Thaer Samar (Information Access)
DTSTART:20171030T093000Z
DTEND:20171030T103000Z
UID:fef0ef58-a5a6-430f-b9ba-f3c6bf680b6c
DESCRIPTION:You are cordially invited to the public defense of Thaer Samar
  on his PhD thesis titled: Access to and Retrievability of Content in Web 
 Archives  Monday October 30th 10:30 at Radboud University Supervisor: Prof
 . dr. ir. A. P. de Vries\, Radboud University\n\nLocation:\nRadboud Univer
 sity\, Nijmegen
LOCATION:Radboud University\, Nijmegen
END:VEVENT
BEGIN:VEVENT
SUMMARY:PhD defense Thaer Samar (Information Access)
DTSTART:20171030T093000Z
DTEND:20171030T103000Z
UID:60fd5744-b93e-4ed3-9f00-b12098fab769
DESCRIPTION:You are cordially invited to the public defense of Thaer Samar
  on his PhD thesis titled: Access to and Retrievability of Content in Web 
 Archives  Monday October 30th 10:30 Location: Radboud University Promotor:
  Prof. dr. ir. A. P. de Vries\, Radboud University\n\nLocation:\nRadboud U
 niversity\, Nijmegen
LOCATION:Radboud University\, Nijmegen
END:VEVENT
BEGIN:VEVENT
SUMMARY:PhD defense Emma Beauxis-Aussalet
DTSTART:20190128T093000Z
DTEND:20190128T110000Z
UID:5df09e34-dc34-4aac-a72d-68c1232117b4
DESCRIPTION:Everybody is welcome to attend the public defense of Emma Beau
 xis-Aussalet of her thesis Statistics and Visualizations for Assessing Cla
 ss Size Uncertainty.  Promotor: Prof.dr. Lynda Hardman\n\nLocation:\nAcade
 miegebouw Domplein 29 Utrecht
LOCATION:Academiegebouw Domplein 29 Utrecht
END:VEVENT
BEGIN:VEVENT
SUMMARY:PhD defense Myriam Traub Monday 11 May 2020 Utrecht
DTSTART:20200511T083000Z
DTEND:20200511T103000Z
UID:c9a5a254-c795-483e-8821-b38b54aedbed
DESCRIPTION:Everybody is welcome to attend the public defense of Myriam Tr
 aub of her thesis Measuring Tool Bias & Improving Data Quality for Digital
  Humanities Research  Promotor: Prof.dr. Lynda Hardman Co-promotor: Dr. Ja
 cco R. van Ossenbruggen\n\nContact:\nMartine Anholt\nm.anholt.gunzeln@cwi.
 nl\n\nLocation:\nAcademiegebouw Domplein 29 Utrecht
LOCATION:Academiegebouw Domplein 29 Utrecht
END:VEVENT
BEGIN:VEVENT
SUMMARY:Kick-off of the Cultural AI LaB
DTSTART:20210217T150000Z
DTEND:20210217T160000Z
UID:49b1f132-7ee5-4c68-8359-426a01b358db
DESCRIPTION:How can we design Artificial Intelligence that is aware of the
  subtle and subjective complexity of human culture? This webinar marks the
  starting point of the new ICAI Lab on Cultural AI\, in which CWI\, KNAW H
 umanities Cluster\, KB National Library of the Netherlands\, Dutch Institu
 te of Sound and Vision\, Rijksmuseum\, TNO\, University of Amsterdam\, and
  Vrije Universiteit Amsterdam join forces to develop AI-tools applicable i
 n the cultural heritage sector.\n\nContact:\nLaura Hollink\nl.hollink@cwi.
 nl
END:VEVENT
BEGIN:VEVENT
SUMMARY:PhD defence T. Bogaard
DTSTART:20230510T114500Z
DTEND:20230510T131500Z
UID:b6436382-b930-4782-af09-ab692cb21b34
DESCRIPTION:Using Metadata to Understand Search Behavior in Digital Librar
 ies\n\nLocation:\nVU Aula      De Boelelaan 1105 1081 HV Amsterdam
LOCATION:VU Aula      De Boelelaan 1105 1081 HV Amsterdam
END:VEVENT
BEGIN:VEVENT
SUMMARY:Large Language Models for media and democracy: wrecking or saving 
 society?
DTSTART:20240423T070000Z
DTEND:20240424T160000Z
UID:700b38cd-f836-40ed-85af-467c5ecae07c
DESCRIPTION:With this workshop we intend to map the salient technical and 
 societal issues that emerged around foundational models and to discuss rec
 ent developments to address them.\n\nLocation:\nCWI\, Turing room\, Scienc
 e Park 125
LOCATION:CWI\, Turing room\, Science Park 125
END:VEVENT
BEGIN:VEVENT
SUMMARY:PhD Defence Manel Slokom  9 July 2024 at 14.30
DTSTART:20240709T123000Z
DTEND:20240709T143000Z
UID:dff0a144-4d8e-4ec9-a954-39a96241bf89
DESCRIPTION:Towards Purpose-aware Privacy-preserving Techniques for Predic
 tive Applications\n\nContact:\nManel Slokom\nmanel.slokom@live.fr\n\nLocat
 ion:\nSenaatszaal of Auditorium (Aula)\, Mekelweg 5\, Delft
LOCATION:Senaatszaal of Auditorium (Aula)\, Mekelweg 5\, Delft
END:VEVENT
BEGIN:VEVENT
SUMMARY:EKAW 2024
DTSTART:20241126T080000Z
DTEND:20241128T170000Z
UID:2274b6ca-7217-4eb5-9b37-e5f8941c79c7
DESCRIPTION:24th International Conference on Knowledge Engineering and Kno
 wledge Management.\n\nLocation:\nCWI\, Amsterdam Science Park Congress Cen
 tre\, Science Park 125
LOCATION:CWI\, Amsterdam Science Park Congress Centre\, Science Park 125
END:VEVENT
BEGIN:VEVENT
SUMMARY:Truth is in the Eyes of the Machines - Symposium
DTSTART:20250509T070000Z
DTEND:20250509T160000Z
UID:74d433e3-3c81-4aab-b8ae-02e50f2f59fb
DESCRIPTION:This symposium is part of the Research Semester Programme on M
 isinformation Detection and Countering in the era of Large Language Models
 .\n\nLocation:\nTuring Hall\, CWI\, Science Park 125\, Amsterdam\, Netherl
 ands.
LOCATION:Turing Hall\, CWI\, Science Park 125\, Amsterdam\, Netherlands.
END:VEVENT
BEGIN:VEVENT
SUMMARY:Workshop: Information Disorder Network Netherlands - From mis-/dis
 information to hate speech (and beyond)
DTSTART:20250523T080000Z
DTEND:20250523T150000Z
UID:10911769-e2c6-42a7-a7f5-6fbdabbb46e4
DESCRIPTION:This Research Semester Programme is part of Truth Is in the Ey
 es of the Machines. How do misinformation and hate speech fuel and influen
 ce each other? How can sustainable and FAIR data (Findable\, Accessible\, 
 Interoperable and Reusable) be developed to independently investigate misi
 nformation and hate speech? How robust are generative AI models at detecti
 ng and actively countering information disorders?\n\nContact:\nTommaso Cas
 elli\nt.caselli@rug.nl\n\nLocation:\nHouse of Connections\, Grote Markt 21
 \, Groningen
LOCATION:House of Connections\, Grote Markt 21\, Groningen
END:VEVENT
BEGIN:VEVENT
SUMMARY:Cultural AI Lab meets AI & Media Lab
DTSTART:20250630T120000Z
DTEND:20250630T150000Z
UID:3349a47f-81e7-4216-9fbd-6e53f4ca18de
DESCRIPTION:Please register if you would like to join this meeting.\n\nCon
 tact:\nMartine\nevents@cwi.nl\n\nLocation:\nCWI room L017
LOCATION:CWI room L017
END:VEVENT
BEGIN:VEVENT
SUMMARY:Workshop: Information Disorder Network Netherlands - From hate spe
 ech to mis-/disinformation (and beyond)
DTSTART:20251027T090000Z
DTEND:20251027T160000Z
UID:98820ff1-e135-4125-bad3-021c61d77cb8
DESCRIPTION:This workshop is part of the Research Semester Programme Truth
  is in the Eyes of the Machines. This workshop will be at CWI\, Amsterdam 
 on Monday 27 October 2025.\n\nLocation:\nCWI in Room L017\, Science Park 1
 23\, Amsterdam
LOCATION:CWI in Room L017\, Science Park 123\, Amsterdam
END:VEVENT
BEGIN:VEVENT
SUMMARY:PhD defence Boyu Xu (Human- Centered Data Analytics) + workshop
DTSTART:20260114T130000Z
DTEND:20260114T150000Z
UID:537ee071-46c3-4384-bead-c1800beb0571
DESCRIPTION:Title of the dissertation is: "Exploring Indirect Relations Be
 tween Topics in Neuroscience Literature Using Augmented Reality to Inform 
 Experimental Design".\n\nContact:\nBoyu Xu\nboyu.xu@cwi.nl\n\nLocation:\nU
 trecht University Hall
LOCATION:Utrecht University Hall
END:VEVENT
BEGIN:VEVENT
SUMMARY:Understanding Bias in AI - a wide lens
DTSTART:20260507T110000Z
DTEND:20260507T154500Z
UID:0cf2f58a-e5d6-4410-919e-e3c355203512
DESCRIPTION:The symposium is meant for researchers from various discipline
 s with an interest in Responsible AI.\n\nContact:\nLaura Hollink\nl.hollin
 k@cwi.nl\n\nLocation:\nCWI\, Science Park 123\, Amsterdam
LOCATION:CWI\, Science Park 123\, Amsterdam
END:VEVENT
END:VCALENDAR
