BEGIN:VCALENDAR
BEGIN:VEVENT
SUMMARY:PhD Defense Stef Maree
DTSTART:20210317T130000Z
DTEND:20210317T140000Z
UID:13061092-a04a-4f4e-86f2-f0ad3ccc795d
DESCRIPTION:Model-based evolutionary algorithms for finding diverse high-q
 uality solutions - with an application in brachytherapy for prostate cance
 r\n\nContact:\nStef Maree\nS.C.Maree@cwi.nl\n\nLocation:\nUniversity of Am
 sterdam
LOCATION:University of Amsterdam
END:VEVENT
END:VCALENDAR
