BEGIN:VCALENDAR
BEGIN:VEVENT
SUMMARY:LSH Seminar Hoang Luong
DTSTART:20180508T140000Z
DTEND:20180508T150000Z
UID:d1d07005-d9e3-489d-a8b2-9ed86111cd03
DESCRIPTION:Improving the Performance of MO-RV-GOMEA on Problems with Many
  Objectives using Tchebycheff Scalarizations\n\nLocation:\nM290
LOCATION:M290
END:VEVENT
END:VCALENDAR
