BEGIN:VCALENDAR
BEGIN:VEVENT
SUMMARY:Evolutionary Intelligence Seminar - Sarah L. Thomson (Edinburgh Na
 pier Univ.)
DTSTART:20231017T140000Z
DTEND:20231017T150000Z
UID:98d73962-1c23-4ac4-909b-61f0f3af30b6
DESCRIPTION:Bridging Explainable AI and Fitness Landscapes\n\nLocation:\nC
 WI\, room L016
LOCATION:CWI\, room L016
END:VEVENT
END:VCALENDAR
