BEGIN:VCALENDAR
BEGIN:VEVENT
SUMMARY:PhD defence Tianyi Zhang (Distributed and Interactive Systems)
DTSTART:20221003T101500Z
DTEND:20221003T111500Z
UID:0f8cc8a7-c211-407c-a03f-1987a7197867
DESCRIPTION:Everyone is cordially invited to attend the public defence of 
 Tianyi Zhang dissertation "On fine-grained temporal emotion recognition in
  video: How to trade off recognition accuracy with annotation complexity?"
  at TU Delft.\n\nContact:\nTianyi Zhang\ntianyi@cwi.nl\n\nLocation:\nDelft
  University of Technology
LOCATION:Delft University of Technology
END:VEVENT
END:VCALENDAR
