BEGIN:VCALENDAR
BEGIN:VEVENT
SUMMARY:CWI Lectures: Socially-Aware Multimedia (2014)
DTSTART:20140522T080000Z
DTEND:20140522T160000Z
UID:ac2de66f-566c-487d-87f9-9480987b965a
DESCRIPTION:The research of the Distributed and Interactive Systems (DIS) 
 group was covered at the CWI Lectures 2014 on 22 May 2014 at CWI\, Amsterd
 am. Theme of this event was Socially-Aware Multimedia\, covering the areas
  of Multimedia Systems\, Content Analysis\, Human-Computer Interaction and
  Hypermedia.\n\nLocation:\nCWI
LOCATION:CWI
END:VEVENT
BEGIN:VEVENT
SUMMARY:PhD Defence Rufael Mekuria (DIS)
DTSTART:20170123T114500Z
DTEND:20170123T140000Z
UID:1d369db2-cc2d-4d6d-b5d5-7cc16b611b06
DESCRIPTION:Everyone is invited to attend the public defence of Rufael Mek
 uria\, of his thesis 'Network Streaming and Compression for Mixed Reality 
 Tele-Immersion'. Promotor: Prof.dr. Dick Bulterman (CWI/VU)\n\nLocation:
 \nAula van de Vrije Universiteit\, de Boelelaan 1105\, Amsterdam
LOCATION:Aula van de Vrije Universiteit\, de Boelelaan 1105\, Amsterdam
END:VEVENT
BEGIN:VEVENT
SUMMARY:Smart Textiles and the Internet of Things
DTSTART:20170926T120000Z
DTEND:20170926T150000Z
UID:b47b2486-662d-48d6-b051-026639982d29
DESCRIPTION:On 26 September CWI researchers will be presenting their smart
  textiles research at a symposium on Smart Textiles and the Internet of Th
 ings at the Royal College of Art in London\,  one of the world's leading a
 rt and design universities.\n\nLocation:\nKensington\, Lecture Theatre 1\,
  London
LOCATION:Kensington\, Lecture Theatre 1\, London
END:VEVENT
BEGIN:VEVENT
SUMMARY:PhD defence Chen Wang (DIS)
DTSTART:20180523T074500Z
DTEND:20180523T094500Z
UID:e2b9c435-f192-452a-ac11-9f7c76cb6a43
DESCRIPTION:Everyone is welcome to attend the public defence of Chen Wang\
 , Auditorium VU\, 23 May 2018\, 09:45.\n\nContact:\nSusanne van Dam\nsusan
 ne@cwi.nl\n\nLocation:\nAuditorium VU\, Boelelaan 1105 in Amsterdam
LOCATION:Auditorium VU\, Boelelaan 1105 in Amsterdam
END:VEVENT
BEGIN:VEVENT
SUMMARY:ACM Multimedia Systems Conference (MMSys 2018)
DTSTART:20180612T090000Z
DTEND:20180615T100000Z
UID:8bc39410-d4c7-45be-be3a-41a5a0ccae88
DESCRIPTION:ACM Multimedia Systems Conference (MMSys 2018)\n\nContact:\nSu
 sanne van Dam\nsusanne@cwi.nl\n\nLocation:\nWCW Congress Center\, Science 
 Park 123\, Amsterdam
LOCATION:WCW Congress Center\, Science Park 123\, Amsterdam
END:VEVENT
BEGIN:VEVENT
SUMMARY:pre-CHI day at CWI
DTSTART:20190416T080000Z
DTEND:20190416T160000Z
UID:ae8ea8bf-08df-4ecc-bc39-a602adb36c90
DESCRIPTION:The CWI DIS group is organising a pre-CHI day\, a free 1-day e
 vent where people who will be presenting at CHI (Conference on Human Facto
 rs in Computing Systems) can practice  their presentation and get feedback
 . This can be a paper presentation\,   case study\, poster (LBW)\, etc.\n\
 nContact:\nAbdallah El Ali\naea@cwi.nl\n\nLocation:\nRoom L016 at CWI\, Sc
 ience Park 123 in Amsterdam
LOCATION:Room L016 at CWI\, Science Park 123 in Amsterdam
END:VEVENT
BEGIN:VEVENT
SUMMARY:PhD defence Marwin Schmitt (DIS)
DTSTART:20190910T074500Z
DTEND:20190910T093000Z
UID:e0a3a204-f8b9-4a57-825e-45cf5fcb041d
DESCRIPTION:Everyone is welcome to attend the public defence of Marwin Sch
 mitt of his thesis 'Personal Quality of Experience: Accurately modelling Q
 uality of Experience for multi-party desktop video-conferencing based on s
 ystems\, context and user factors'.\n\nLocation:\nAuditorium VU\, Boelelaa
 n 1105 in Amsterdam
LOCATION:Auditorium VU\, Boelelaan 1105 in Amsterdam
END:VEVENT
BEGIN:VEVENT
SUMMARY:Symposium Steven Pemberton 'Declarative Amsterdam'
DTSTART:20191004T110000Z
DTEND:20191004T120000Z
UID:1a176f92-4b1a-4b99-9335-3d3a0e79d236
DESCRIPTION:Everyone is welcome to attend this one-day symposium on Declar
 ative Techniques\, on the occasion of the retirement of our colleague Stev
 en Pemberton. Please register.\n\nContact:\nSusanne van Dam\nsusanne@cwi.n
 l\n\nLocation:\nTuring room\, Science Park Congress Centre\, Amsterdam
LOCATION:Turing room\, Science Park Congress Centre\, Amsterdam
END:VEVENT
BEGIN:VEVENT
SUMMARY:CANCELED: Pre-CHI Event
DTSTART:20200403T090000Z
DTEND:20200403T150000Z
UID:04fb12b2-5806-492d-b81b-cdc6a24c708f
DESCRIPTION:In light of the recent COVID-19 global health crisis\, we unfo
 rtunately have to cancel this year’s Pre-CHI Event NL 2020 at CWI.\n\nCo
 ntact:\nFemke Harms\nfemke.harms@cwi.nl\n\nLocation:\nL017 @ CWI
LOCATION:L017 @ CWI
END:VEVENT
BEGIN:VEVENT
SUMMARY:PhD Defence Jan Willem Martin Kleinrouweler - DIS
DTSTART:20201028T144500Z
DTEND:20201028T164500Z
UID:a7723cc5-01f4-434a-a72e-8e85c39ee783
DESCRIPTION:On 28th of October 2020 at 15.45 Jan Willem Martin Kleinrouwel
 er will defend his dissertation 'Modeling and Optimization of Network Assi
 sted Video Streaming' at the Vrije Universiteit Amsterdam\n\nLocation:\nAu
 la of the Vrije Universiteit Amsterdam | Livestream
LOCATION:Aula of the Vrije Universiteit Amsterdam | Livestream
END:VEVENT
BEGIN:VEVENT
SUMMARY:International workshop on Human-Centered Multimedia
DTSTART:20220519T070000Z
DTEND:20220519T150000Z
UID:53b888fb-ff8c-48dc-af89-e5be700d3bcc
DESCRIPTION:\n\nLocation:\nHotel Karel V\, Geertebolwerk 1\, 3511 XA Utrec
 ht
LOCATION:Hotel Karel V\, Geertebolwerk 1\, 3511 XA Utrecht
END:VEVENT
BEGIN:VEVENT
SUMMARY:Seminar on Human-Centered Multimedia on the occasion of Pablo Cesa
 r's inaugural speech
DTSTART:20220520T080000Z
DTEND:20220520T110000Z
UID:eb106804-ae11-47c7-9e01-c940ffe5ceeb
DESCRIPTION:Seminar on Human-Centered Multimedia\, with presentations by s
 elected international speakers\, on the occasion of the inaugural speech o
 f Pablo Cesar (CWI and TUD). Open to the public and free.\n\nLocation:\nTU
  Delft\, Aula Congrescentrum (Commissiekamer 3)\, Mekelweg 5\, 2628 CC Del
 ft
LOCATION:TU Delft\, Aula Congrescentrum (Commissiekamer 3)\, Mekelweg 5\, 
 2628 CC Delft
END:VEVENT
BEGIN:VEVENT
SUMMARY:Inaugural lecture “Human-Centered Multimedia: making remote toge
 therness possible”
DTSTART:20220520T130000Z
DTEND:20220520T150000Z
UID:e308c685-fdf7-4805-a7ee-b07e2ce7e47d
DESCRIPTION:On 20 May 2022\, Prof. Dr. Pablo César will give his inaugura
 l lecture at TU Delft\, Aula Congrescentrum\, to celebrate his appointment
  to Professorship. The lecture\, titled “Human-Centered Multimedia: maki
 ng remote togetherness possible”\, will provide an overview of his resea
 rch with a focus on volumetric video conferencing and the future of eXtend
 ed Reality (XR) as a collaboration and communication medium.\n\nContact:\n
 Christel van Dam\nchristel.van.dam@cwi.nl\n\nLocation:\nAula Congrescentru
 m TU Delft\, Auditorium (3e etage)\, Mekelweg\, 2628 CC Delft
LOCATION:Aula Congrescentrum TU Delft\, Auditorium (3e etage)\, Mekelweg\,
  2628 CC Delft
END:VEVENT
BEGIN:VEVENT
SUMMARY:PhD defence Tianyi Zhang (Distributed and Interactive Systems)
DTSTART:20221003T101500Z
DTEND:20221003T111500Z
UID:0f8cc8a7-c211-407c-a03f-1987a7197867
DESCRIPTION:Everyone is cordially invited to attend the public defence of 
 Tianyi Zhang dissertation "On fine-grained temporal emotion recognition in
  video: How to trade off recognition accuracy with annotation complexity?"
  at TU Delft.\n\nContact:\nTianyi Zhang\ntianyi@cwi.nl\n\nLocation:\nDelft
  University of Technology
LOCATION:Delft University of Technology
END:VEVENT
BEGIN:VEVENT
SUMMARY:Spring School on Social XR (Semester Programme DIS)
DTSTART:20230313T080000Z
DTEND:20230317T160000Z
UID:ef28b2da-15b9-4484-bf3b-354ef7bddd30
DESCRIPTION:The Distributed en Interactive Systems research group (DIS) of
  CWI presents a semester programme on Social XR\, and kicks off with a Spr
 ing School in March.\n\nContact:\nPablo Cesar\ngarcia@cwi.nl\n\nLocation:\
 nCWI
LOCATION:CWI
END:VEVENT
BEGIN:VEVENT
SUMMARY:TRANSMIXR 2nd General Assembly
DTSTART:20230627T070000Z
DTEND:20230628T150000Z
UID:32330964-c6ed-4b22-bd74-273243f294dd
DESCRIPTION:TRANSMIXR is holding its 2nd General Assembly at CWI. Demo ses
 sions will showcase progresses made by project partners in different devel
 opment areas like Volumetric Video in VR\, Control Room\, Curation\, Socia
 l XR\, Holograms\, GenerativeAI.\n\nLocation:\nCWI
LOCATION:CWI
END:VEVENT
BEGIN:VEVENT
SUMMARY:VOXReality : Amsterdam Plenary Meeting
DTSTART:20231008T220000Z
DTEND:20231010T220000Z
UID:c59cc8eb-4e9f-436e-a228-3f76e48126eb
DESCRIPTION:CWI's DIS-group hosts this plenary meeting for the VOX project
  to discuss various essential aspects. By invitation only.\n\nLocation:\nC
 WI
LOCATION:CWI
END:VEVENT
BEGIN:VEVENT
SUMMARY:Open and Free lectures on Social XR at CWI
DTSTART:20240305T083000Z
DTEND:20240306T113000Z
UID:99e75ae7-7a5a-43e1-8cce-3915a609f4e7
DESCRIPTION:The Distributed en Interactive Systems research group (DIS) of
  CWI presents the 2nd semester programme on Social XR\, and organises open
  and Free lectures on Social XR at CWI.\n\nLocation:\nCWI\, Turing room\, 
 Science Park 125
LOCATION:CWI\, Turing room\, Science Park 125
END:VEVENT
BEGIN:VEVENT
SUMMARY:Open Lectures for the Spring School on Social XR 2025
DTSTART:20250408T070000Z
DTEND:20250409T100000Z
UID:05af0df9-0cce-416d-a863-2e4902aee2ca
DESCRIPTION:The Distributed and Interactive Systems research group (DIS) o
 f CWI presents the 3rd edition of the Spring School on Social XR\, is orga
 nizing open lectures on Social XR\, at CWI.\n\nLocation:\nTuring Hall\, CW
 I\, Science Park 125\, Amsterdam\, Netherlands.
LOCATION:Turing Hall\, CWI\, Science Park 125\, Amsterdam\, Netherlands.
END:VEVENT
BEGIN:VEVENT
SUMMARY:Symposium: CHIWORK 2025
DTSTART:20250623T063000Z
DTEND:20250625T150000Z
UID:fbd8ab00-c370-4b5c-86b4-d7a4124f4cf4
DESCRIPTION:The 4th Symposium on Human-Computer Interaction for Work (CHIW
 ORK)\n\nLocation:\nCWI\, Sciencepark 123 and Amsterdam Science Park Congre
 ss Centre\, Science Park 125
LOCATION:CWI\, Sciencepark 123 and Amsterdam Science Park Congress Centre\
 , Science Park 125
END:VEVENT
END:VCALENDAR
