BEGIN:VCALENDAR
BEGIN:VEVENT
SUMMARY:Symposium Steven Pemberton 'Declarative Amsterdam'
DTSTART:20191004T110000Z
DTEND:20191004T120000Z
UID:1a176f92-4b1a-4b99-9335-3d3a0e79d236
DESCRIPTION:Everyone is welcome to attend this one-day symposium on Declar
 ative Techniques\, on the occasion of the retirement of our colleague Stev
 en Pemberton. Please register.\n\nContact:\nSusanne van Dam\nsusanne@cwi.n
 l\n\nLocation:\nTuring room\, Science Park Congress Centre\, Amsterdam
LOCATION:Turing room\, Science Park Congress Centre\, Amsterdam
END:VEVENT
END:VCALENDAR
