BEGIN:VCALENDAR
BEGIN:VEVENT
SUMMARY:PhD defence Mark Raasveldt (Database Architectures)
DTSTART:20200609T091500Z
DTEND:20200609T111500Z
UID:f97258f5-0c3d-44ad-98da-8b5b68cc70ca
DESCRIPTION:Everyone is invited to attend the public "online"defense of Ma
 rk Raasveld on 9 June 2020. Title: Integrating Analytics with Relational D
 atabases Promotor: Prof. dr. Stefan Manegold (CWI/UL) Copromotor: Dr. Hann
 es Mühleisen (CWI) University: Leiden University Link to attend the defen
 ce will be available as soon as possible\n\nContact:\nMark Raasveldt\nm.ra
 asveldt@cwi.nl\n\nLocation:\nLeiden University
LOCATION:Leiden University
END:VEVENT
END:VCALENDAR
