BEGIN:VCALENDAR
BEGIN:VEVENT
SUMMARY:PhD Defence Jelle Don (CR)
DTSTART:20240123T140000Z
DTEND:20240123T150000Z
UID:123d36a1-ff32-41ad-94ff-e2d5f7242dca
DESCRIPTION:Thesis: Proof techniques in the quantum random-oracle model\n\
 nContact:\nJelle.Don@cwi.nl\n\nLocation:\nAcademiegebouw Rapenburg 73\, 23
 11 GJ Leiden
LOCATION:Academiegebouw Rapenburg 73\, 2311 GJ Leiden
END:VEVENT
END:VCALENDAR
