BEGIN:VCALENDAR
BEGIN:VEVENT
SUMMARY:PhD Defence Poulami Ganguly (Computational Imaging)
DTSTART:20221208T113000Z
DTEND:20221208T123000Z
UID:d7bacd00-8505-49e6-95ef-626364312b7e
DESCRIPTION:Sparsity-Based Algorithms for Inverse Problems\n\nContact:\nPo
 ulami Ganguly\nPoulami.Ganguly@cwi.nl\n\nLocation:\nLeiden Academiegebouw 
 (room TBA)
LOCATION:Leiden Academiegebouw (room TBA)
END:VEVENT
END:VCALENDAR
