BEGIN:VCALENDAR
BEGIN:VEVENT
SUMMARY:PhD defence Mathé Zeegers (CI)
DTSTART:20230531T130000Z
DTEND:20230531T140000Z
UID:2fb0417e-56dd-4484-97af-c685434cc044
DESCRIPTION:Spectral imaging and tomographic reconstruction methods for in
 dustrial applications\n\nLocation:\nLeiden University
LOCATION:Leiden University
END:VEVENT
END:VCALENDAR
