BEGIN:VCALENDAR
BEGIN:VEVENT
SUMMARY:First annual meeting of the Dutch Inverse Problems Community
DTSTART:20211125T080000Z
DTEND:20211126T160000Z
UID:2713d246-8b8c-4688-9b73-7b68b1d9d6bc
DESCRIPTION:The first annual meeting of the Dutch Inverse Problems Communi
 ty will take place on 25-26 November 2021 in conference center de Werelt\,
  Lunteren. The masterclasses are meant to introduce the participants to a 
 particular topic by a combination of lecture and hands-on exercises.\n\nCo
 ntact:\nTristan van Leeuwen\nT.van.Leeuwen@cwi.nl\n\nLocation:\nConference
  center de Werelt\, Lunteren
LOCATION:Conference center de Werelt\, Lunteren
END:VEVENT
END:VCALENDAR
