BEGIN:VCALENDAR
BEGIN:VEVENT
SUMMARY:PhD Defence Daniël Pelt (Computational Imaging)
DTSTART:20160503T121500Z
DTEND:20160503T131500Z
UID:6d5840b7-be1f-4d3d-820c-d22035213569
DESCRIPTION:Everybody is cordially invited to attend the public defence of
  the PhD thesis of Daniël Pelt. The dissertation title is: "Filter-based 
 reconstruction methods for tomography". Promotor: Prof. dr. Joost Batenbur
 g (CWI\, CI / Leiden University).\n\nLocation:\nSenate Room of the Academy
  Building of the Leiden University\, Rapenburg 73
LOCATION:Senate Room of the Academy Building of the Leiden University\, Ra
 penburg 73
END:VEVENT
BEGIN:VEVENT
SUMMARY:PhD Defense Linda Plantagie (Computational Imaging)
DTSTART:20170413T114500Z
DTEND:20170413T130000Z
UID:51c9912c-ad1c-4e8c-896e-74e06f4e4934
DESCRIPTION:Everyone is invited to attend the public defense of Linda Plan
 tagie of her PhD thesis:Algebraic filters for Filtered BackprojectionPromo
 tor: Prof. dr. K. J. Batenburg\n\nLocation:\nLeiden (Academiegebouw\, Rape
 nburg 73)
LOCATION:Leiden (Academiegebouw\, Rapenburg 73)
END:VEVENT
BEGIN:VEVENT
SUMMARY:CI Lecture by Professor Samuli Siltanen (Helsinki University)
DTSTART:20180413T093000Z
DTEND:20180413T103000Z
UID:0a3d7621-440b-42b5-bc2e-445f7e495f7e
DESCRIPTION:CI Lecture by Professor Samuli Siltanen (Helsinki University)\
 n\nLocation:\nL017
LOCATION:L017
END:VEVENT
BEGIN:VEVENT
SUMMARY:Talk by Luca Presotto\, San Raffaele Hospital\, Milan
DTSTART:20180920T123000Z
DTEND:20180920T133000Z
UID:e695f189-fb2f-426e-91da-91a97424a920
DESCRIPTION:Clinical Image Reconstruction for Emission Tomography\n\nConta
 ct:\nNicola Vigano\nN.R.Vigano@cwi.nl\n\nLocation:\nCWI\, L017
LOCATION:CWI\, L017
END:VEVENT
BEGIN:VEVENT
SUMMARY:Deep learning for tomography mini workshop at CWI
DTSTART:20181009T070000Z
DTEND:20181009T150000Z
UID:4b6457c3-0f7c-4881-b7da-51e26afcfc9a
DESCRIPTION:Yoeri Boink (University of Twente) and Niek Huttinga (UMC Utre
 cht Center for Image Sciences) will give a short presentation on their wor
 k using deep learning for tomography.\n\nContact:\nFelix Lucka\nfelix.luck
 a@cwi.nl\n\nLocation:\nL017
LOCATION:L017
END:VEVENT
BEGIN:VEVENT
SUMMARY:Mummering General Assembly Oct.2018
DTSTART:20181030T110000Z
DTEND:20181031T140000Z
UID:56f48da5-c580-40d4-96f8-239d3747872e
DESCRIPTION:The Mummering General Assembly will take place at CWI\, Amster
 dam on 30-31 October 2018.\n\nLocation:\nL016
LOCATION:L016
END:VEVENT
BEGIN:VEVENT
SUMMARY:PhD Defence Zhichao Zhong
DTSTART:20181210T100000Z
DTEND:20181210T110000Z
UID:5600c74d-58ef-4c76-acc3-9ad26d0e752f
DESCRIPTION:Reconstruction Methods for Combined HAADF-STEM and EDS Tomogra
 phy\n\nContact:\nZhichao Zhong\nZhichao.Zhong@cwi.nl\n\nLocation:\nAcademi
 egebouw\, Rapenburg 70\, 2311 EZ Leiden
LOCATION:Academiegebouw\, Rapenburg 70\, 2311 EZ Leiden
END:VEVENT
BEGIN:VEVENT
SUMMARY:Mummering  Course Advanced Tomographic Reconstruction using ASTRA 
 and ODL
DTSTART:20190211T093000Z
DTEND:20190213T160000Z
UID:38b616a2-e3d5-41e7-bf19-f0eb6cc6fa55
DESCRIPTION:The ASTRA Toolbox and the Operator Discretization Library (ODL
 ) are powerful\, open-source toolboxes that can be used to create advanced
  tomography algorithms. Both toolboxes can be used separately\, but can al
 so be combined\, creating the ability to specify algorithms in a high-leve
 l mathematical language\, while performing the internal computations with 
 high efficiency.\n\nContact:\nNada Mitrovic\nNada.Mitrovic@cwi.nl\n\nLocat
 ion:\nCWI\, L016
LOCATION:CWI\, L016
END:VEVENT
BEGIN:VEVENT
SUMMARY:Mummering 2nd General Assembly
DTSTART:20190214T083000Z
DTEND:20190215T093000Z
UID:f2d28b1d-b06e-4fd4-bcfd-445492ba834b
DESCRIPTION:This meeting coincides with the Mummering Mid-term Check and w
 ill be joined by the REA Project Officer.\n\nContact:\nNada Mitrovic\nNada
 .Mitrovic@cwi.nl\n\nLocation:\nCWI
LOCATION:CWI
END:VEVENT
BEGIN:VEVENT
SUMMARY:Closing meeting of the See-Through Museum Project
DTSTART:20190508T080000Z
DTEND:20190508T101500Z
UID:127a47bd-a9b5-46dc-95cb-6756ddf3e0b5
DESCRIPTION:In this closing meeting\, the project partners will present th
 e goals\, results\, and a guided tour of the NWO JSTP-China “See-Through
  Museum Project”.\n\nContact:\nAlexander Kostenko\nAlexander.Kostenko@cw
 i.nl\n\nLocation:\nCWI\, room L016
LOCATION:CWI\, room L016
END:VEVENT
BEGIN:VEVENT
SUMMARY:Code Sprint Deep Learning for High Resolution 3D Tomographic Recon
 struction
DTSTART:20190603T070000Z
DTEND:20190607T150000Z
UID:c43d9ac3-9586-4e1e-a8a3-e6d75bd7d61c
DESCRIPTION:Existing implementations of deep learning techniques for image
  reconstruction do not yet allow for the reconstruction of large 3D images
 \, and are not ready to be deployed in many industrial or clinical applica
 tions. Furthermore\, most deep learning-based reconstruction methods are o
 nly being trained on small or simulated data.\n\nContact:\nMaureen van Eij
 natten\nMaureen.van.Eijnatten@cwi.nl\n\nLocation:\nCWI\, L016
LOCATION:CWI\, L016
END:VEVENT
BEGIN:VEVENT
SUMMARY:Closing meeting VOXEL project
DTSTART:20190701T080000Z
DTEND:20190703T100000Z
UID:712f212a-5610-42b3-9ab3-6885cbe9365e
DESCRIPTION:The EU evaluation panel  and the project principal investigato
 rs are invited at this formal closure meeting.\n\nContact:\nNada Mitrovic\
 nNada.Mitrovic@cwi.nl\n\nLocation:\nCWI\, room L016
LOCATION:CWI\, room L016
END:VEVENT
BEGIN:VEVENT
SUMMARY:Mummering Workshop on Dynamic Imaging
DTSTART:20190910T120000Z
DTEND:20190912T103000Z
UID:223778d8-4760-4f4b-a308-933493247329
DESCRIPTION:Mummering Workshop on Dynamic Imaging\, 10-12 September 2019\,
  University Leiden\n\nContact:\nHermen Jan Hupkes\nhhupkes@math.leidenuniv
 .nl\n\nLocation:\nUniversiteit Leiden\, Academiegebouw\, Rapenburg 73\, 23
 11 GJ Leiden
LOCATION:Universiteit Leiden\, Academiegebouw\, Rapenburg 73\, 2311 GJ Lei
 den
END:VEVENT
BEGIN:VEVENT
SUMMARY:MUMMERING 3rd General Assembly
DTSTART:20190913T070000Z
DTEND:20190913T130000Z
UID:8a616c5e-3f9e-43bb-8f34-e4c3c0481885
DESCRIPTION:The General Assembly will be preceded by the MUMMERING Supervi
 sory Board Meeting\, which will take place on Thursday 12 September in the
  afternoon from 4pm to 6pm.\n\nContact:\nHermen Jan Hupkes\nhhupkes@math.l
 eidenuniv.nl\n\nLocation:\nUniversiteit Leiden\, Academiegebouw\, Rapenbur
 g 73\, 2311 GJ Leiden
LOCATION:Universiteit Leiden\, Academiegebouw\, Rapenburg 73\, 2311 GJ Lei
 den
END:VEVENT
BEGIN:VEVENT
SUMMARY:PhD defense Jan-Willem Buurlage (CI)
DTSTART:20200701T091500Z
DTEND:20200701T101500Z
UID:9c020f18-b9f3-4aa1-8fc7-c3f0bf32410a
DESCRIPTION:Everyone is invited to attend the public defense of Jan-Willem
  Buurlage of his PhD thesis: Real-time Tomographic Reconstruction\n\nConta
 ct:\nJan-Willem Buurlage\nJ.Buurlage@cwi.nl\n\nLocation:\nhttps://www.univ
 ersiteitleiden.nl/wetenschappers/livestream-promotie
LOCATION:https://www.universiteitleiden.nl/wetenschappers/livestream-promo
 tie
END:VEVENT
BEGIN:VEVENT
SUMMARY:Workshop Title (Felix\, Tristan)
DTSTART:20200921T080000Z
DTEND:20200921T150000Z
UID:ef3af45a-0223-4230-8f9d-6eb30126acd0
DESCRIPTION:\n\nLocation:\nEuler room (Z009)
LOCATION:Euler room (Z009)
END:VEVENT
BEGIN:VEVENT
SUMMARY:Unlocking Art History: Letterlocking\, X-ray Microtomography\, and
  the Virtual Unfolding Algorithm
DTSTART:20210511T140000Z
DTEND:20210511T153000Z
UID:85872884-f9d2-4a4b-bd5e-7de5dfc5ad22
DESCRIPTION:TECHNICAL ART HISTORY SERIES - Digital imaging methods for Cul
 tural Heritage\n\nContact:\nDzemila Sero\, Francien Bossema\ndzemila.sero@
 cwi.nl
END:VEVENT
BEGIN:VEVENT
SUMMARY:TECHNICAL ART HISTORY SERIES - Digital imaging methods for Cultura
 l Heritage
DTSTART:20210525T130000Z
DTEND:20210525T143000Z
UID:ec2c250d-c342-4bf1-a7e9-7572d31d644f
DESCRIPTION:Experience from the Ghent Altarpiece\; Macro Scale Chemical Im
 aging on Works by Van Eyck\n\nContact:\nDzemila Sero\, Francien Bossema\nd
 zemila.sero@cwi.nl
END:VEVENT
BEGIN:VEVENT
SUMMARY:TECHNICAL ART HISTORY SERIES - Digital imaging methods for Cultura
 l Heritage
DTSTART:20210608T140000Z
DTEND:20210608T153000Z
UID:6d33aa3c-17b0-4c65-8ccc-d3521f5e9150
DESCRIPTION:Tools for Making Sense of Cultural Heritage Data by Holly Rush
 meier (Yale University)\n\nContact:\nDzemila Sero\, Francien Bossema\ndzem
 ila.sero@cwi.nl
END:VEVENT
BEGIN:VEVENT
SUMMARY:TECHNICAL ART HISTORY SERIES - Digital imaging methods for Cultura
 l Heritage
DTSTART:20210622T140000Z
DTEND:20210622T153000Z
UID:0aaa2c99-4e9f-4eb2-9bb1-25b541997362
DESCRIPTION:Point cloud to Sound cloud: Digital Innovation and Historic So
 und at Linlithgow Palace by Sophia Mirashrafi and James Cook\n\nContact:\n
 Dzemila Sero\, Francien Bossema\ndzemila.sero@cwi.nl
END:VEVENT
BEGIN:VEVENT
SUMMARY:PhD defense Rien Lagerwerf
DTSTART:20211005T080000Z
DTEND:20211005T090000Z
UID:1650c286-066b-4a81-9a5b-b2b3506ce2b1
DESCRIPTION:Automatic and Efficient Tomographic Reconstruction Algorithms\
 n\nContact:\nRien Lagerwerf\nrienlagerwerf@gmail.com\n\nLocation:\nhttps:/
 /www.universiteitleiden.nl/en/academic-staff/livestream-phd-defence
LOCATION:https://www.universiteitleiden.nl/en/academic-staff/livestream-ph
 d-defence
END:VEVENT
BEGIN:VEVENT
SUMMARY:First annual meeting of the Dutch Inverse Problems Community
DTSTART:20211125T080000Z
DTEND:20211126T160000Z
UID:2713d246-8b8c-4688-9b73-7b68b1d9d6bc
DESCRIPTION:The first annual meeting of the Dutch Inverse Problems Communi
 ty will take place on 25-26 November 2021 in conference center de Werelt\,
  Lunteren. The masterclasses are meant to introduce the participants to a 
 particular topic by a combination of lecture and hands-on exercises.\n\nCo
 ntact:\nTristan van Leeuwen\nT.van.Leeuwen@cwi.nl\n\nLocation:\nConference
  center de Werelt\, Lunteren
LOCATION:Conference center de Werelt\, Lunteren
END:VEVENT
BEGIN:VEVENT
SUMMARY:LMS Invited Lectures on the Mathematics of Deep Learning
DTSTART:20220228T130000Z
DTEND:20220304T140000Z
UID:05bd27a8-684c-4aea-90e0-303ec2801e73
DESCRIPTION:Neural networks were originally introduced in 1943 by McCulloc
 h and Pitts as an approach to develop learning algorithms by mimicking the
  human brain. The key goal at that time was the introduction of a theory o
 f artificial intelligence. However\, the limited amount of data and the la
 ck of high performance computers made the training of deep neural networks
 \, i.e.\, networks with many layers\, unfeasible.\n\nContact:\nRichard Sch
 oonhoven\nRichard.Schoonhoven@cwi.nl
END:VEVENT
BEGIN:VEVENT
SUMMARY:PhD defense Allard Hendriksen (Computational Imaging)
DTSTART:20220303T140000Z
DTEND:20220303T150000Z
UID:48b74672-a0de-4f78-983a-829e1e289c1e
DESCRIPTION:Deep Learning for Tomographic Reconstruction with Limited Data
 \n\nContact:\nAllard Hendriksen\nallard@allardhendriksen.nl
END:VEVENT
BEGIN:VEVENT
SUMMARY:EWM-NL Lunch lecture ‘Communicating science in the age of populi
 sm’
DTSTART:20220309T114500Z
DTEND:20220309T124500Z
UID:b63678cf-584e-48d2-a259-9c2fedf20b9f
DESCRIPTION:European Women in Mathematics – The Netherlands (EWM-NL)\n\n
 Contact:\nFrancien Bossema\nfrancien.bossema@cwi.nl\n\nLocation:\nonline
LOCATION:online
END:VEVENT
BEGIN:VEVENT
SUMMARY:CWI Inverse Problems Seminar Yves van Gennip (TU Delft)
DTSTART:20220428T090000Z
DTEND:20220428T100000Z
UID:7cd8ab5d-89e4-4270-b42a-fb59353508fc
DESCRIPTION:Differential equations and variational models on graphs for cl
 ustering and classification\n\nContact:\nTristan van Leeuwen\nt.van.leeuwe
 n@cwi.nl\n\nLocation:\nL016
LOCATION:L016
END:VEVENT
BEGIN:VEVENT
SUMMARY:Computational Imaging masterclass (Semester Programme)
DTSTART:20220512T140000Z
DTEND:20220513T150000Z
UID:2a005f0d-7d13-4b65-bdd5-685c71709765
DESCRIPTION:A masterclass on Bayesian statistics and machine learning\, ai
 med at PhD students who want to learn more about the underlying theory Mor
 e info follows asap.\n\nContact:\nTristan van Leeuwen\ntristan.van.leeuwen
 @cwi.nl\n\nLocation:\nCWI\, L016
LOCATION:CWI\, L016
END:VEVENT
BEGIN:VEVENT
SUMMARY:FleXRay Lab 5 years anniversary (Semester Programme)
DTSTART:20220519T113000Z
DTEND:20220519T160000Z
UID:36977448-eb01-4f8a-acd1-4e4e6e2c9b48
DESCRIPTION:In this symposium on the occasion of FleX-ray Lab’s five yea
 r anniversary\, we will look back at some of the scientific highlights of 
 the past years\, and outline future plans. In addition\, speakers from dif
 ferent scientific areas will illustrate how they use X-ray CT to answer re
 search questions and what specific imaging challenges arise from their app
 lications.\n\nLocation:\nCWI\, Turing room
LOCATION:CWI\, Turing room
END:VEVENT
BEGIN:VEVENT
SUMMARY:CWI Inverse Problems Seminar - Michiel Hochstenbach (TU/e)
DTSTART:20220608T090000Z
DTEND:20220608T100000Z
UID:b3b76f2d-b9fb-4de2-84d0-b08ca803e7a0
DESCRIPTION:\n\nContact:\nTristan van Leeuwen\ntristan.van.leeuwen@cwi.nl\
 n\nLocation:\nL016
LOCATION:L016
END:VEVENT
BEGIN:VEVENT
SUMMARY:CWI Inverse Problems Seminar - Palina Salanevich (UU)
DTSTART:20220627T090000Z
DTEND:20220627T100000Z
UID:9a17f529-c100-4fe5-a6d1-9a4dc62e8425
DESCRIPTION:\n\nContact:\nTristan van Leeuwen\ntristan.van.leeuwen@cwi.nl\
 n\nLocation:\nL016
LOCATION:L016
END:VEVENT
BEGIN:VEVENT
SUMMARY:CWI Inverse Problems Seminar - Vanja Nikolic (Radboud U.)
DTSTART:20220712T090000Z
DTEND:20220712T100000Z
UID:44927d9a-9080-40de-b5c9-17eed2eb5d53
DESCRIPTION:Relating models of nonlinear acoustics through singular limit 
 analysis\n\nContact:\nTristan van Leeuwen\ntristan.van.leeuwen@cwi.nl\n\nL
 ocation:\nL016
LOCATION:L016
END:VEVENT
BEGIN:VEVENT
SUMMARY:SECOND ANNUAL MEETING FOR THE DUTCH INVERSE PROBLEMS COMMUNITY
DTSTART:20221110T083000Z
DTEND:20221111T170000Z
UID:55a514de-6ea9-4b53-9889-646a48a032ca
DESCRIPTION:The second annual meeting of the Dutch Inverse Problems Commun
 ity will take place on 10-11 November 2022 in conference center de Werelt\
 , Lunteren.\n\nContact:\nTristan van Leeuwen\nTristan.van.Leeuwen@cwi.nl\n
 \nLocation:\nConference center de Werelt\, Lunteren
LOCATION:Conference center de Werelt\, Lunteren
END:VEVENT
BEGIN:VEVENT
SUMMARY:PhD Defence Poulami Ganguly (Computational Imaging)
DTSTART:20221208T113000Z
DTEND:20221208T123000Z
UID:d7bacd00-8505-49e6-95ef-626364312b7e
DESCRIPTION:Sparsity-Based Algorithms for Inverse Problems\n\nContact:\nPo
 ulami Ganguly\nPoulami.Ganguly@cwi.nl\n\nLocation:\nLeiden Academiegebouw 
 (room TBA)
LOCATION:Leiden Academiegebouw (room TBA)
END:VEVENT
BEGIN:VEVENT
SUMMARY:PhD defence Mathé Zeegers (CI)
DTSTART:20230531T130000Z
DTEND:20230531T140000Z
UID:2fb0417e-56dd-4484-97af-c685434cc044
DESCRIPTION:Spectral imaging and tomographic reconstruction methods for in
 dustrial applications\n\nLocation:\nLeiden University
LOCATION:Leiden University
END:VEVENT
BEGIN:VEVENT
SUMMARY:Science Park Imaging Symposium
DTSTART:20230612T120000Z
DTEND:20230612T153000Z
UID:bf818195-1c21-45bd-903c-a339a1f70254
DESCRIPTION:\n\nLocation:\nCWI\, L016
LOCATION:CWI\, L016
END:VEVENT
BEGIN:VEVENT
SUMMARY:Third annual meeting of the Dutch Inverse Problems Community
DTSTART:20231012T073000Z
DTEND:20231013T140000Z
UID:147d222e-7dd0-488a-a703-2a5d2c33aaa5
DESCRIPTION:Programme and abstracts.\n\nContact:\nTristan.van.Leeuwen@cwi.
 nl\n\nLocation:\nGroningen
LOCATION:Groningen
END:VEVENT
BEGIN:VEVENT
SUMMARY:PhD Defence Francien Bossema (CI)
DTSTART:20240523T091500Z
DTEND:20240523T101500Z
UID:eb33420b-5377-40cf-91cb-670a915b1b13
DESCRIPTION:Tailoring X-ray tomography techniques for cultural heritage re
 search.\n\nLocation:\nAcademiegebouw in Leiden\, Rapenburg 73
LOCATION:Academiegebouw in Leiden\, Rapenburg 73
END:VEVENT
BEGIN:VEVENT
SUMMARY:MUST 2024
DTSTART:20240610T100000Z
DTEND:20240612T150000Z
UID:268d796e-50fd-4ade-95c3-c3c29f6d0ed1
DESCRIPTION:The International Workshop on Medical Ultrasound Tomography\n\
 nLocation:\nCWI\, Euler room\, Science Park 125
LOCATION:CWI\, Euler room\, Science Park 125
END:VEVENT
BEGIN:VEVENT
SUMMARY:PhD Defence Richard Schoonhoven (CI)
DTSTART:20240611T114500Z
DTEND:20240611T124500Z
UID:d02459d3-f83f-45f1-ace9-9aa3d7ef6be6
DESCRIPTION:On the optimization of imaging pipelines\n\nLocation:\nGroot A
 uditorium\, Academiegebouw\, Rapenburg 73\, Leiden
LOCATION:Groot Auditorium\, Academiegebouw\, Rapenburg 73\, Leiden
END:VEVENT
BEGIN:VEVENT
SUMMARY:Computational Imaging Seminar MSc presentations by Teun Schilperoo
 rt and Liang Xu
DTSTART:20240620T120000Z
DTEND:20240620T140000Z
UID:13b5d4a3-432c-4334-94c1-4b361a07f30f
DESCRIPTION:Structural Similarity in inverse problems: How working togethe
 r is better!\; Probabilistic Methods for Point Cloud Registration Problem\
 n\nLocation:\nCWI\, room L017
LOCATION:CWI\, room L017
END:VEVENT
BEGIN:VEVENT
SUMMARY:MAC-MIGS-Amsterdam/Utrecht Workshop on Scientific Computation\, St
 atistics and PDEs
DTSTART:20240904T070000Z
DTEND:20240906T150000Z
UID:f7b4f047-8a50-4595-8d71-62d54c0af459
DESCRIPTION:\n\nLocation:\nCWI\, room L016
LOCATION:CWI\, room L016
END:VEVENT
BEGIN:VEVENT
SUMMARY:Workshop ASTRON - CWI
DTSTART:20241030T100000Z
DTEND:20241030T160000Z
UID:0f7826fc-7bb1-4cb4-9281-e0f81c0b31ca
DESCRIPTION:The aim of this workshop is to explore possible joint research
   interests between CWI and ASTRON around highlight computing / math  chal
 lenges in astronomy.\n\nLocation:\nCWI\, room L016
LOCATION:CWI\, room L016
END:VEVENT
BEGIN:VEVENT
SUMMARY:Oratie Tristan van Leeuwen leerstoel Computational Inverse Problem
 s
DTSTART:20250109T151500Z
DTEND:20250109T161500Z
UID:253cca4f-9b2d-4eb6-b09c-42e2e33b33fd
DESCRIPTION:\n\nLocation:\nAcademiegebouw\, Universiteit Utrecht
LOCATION:Academiegebouw\, Universiteit Utrecht
END:VEVENT
BEGIN:VEVENT
SUMMARY:Science Park Imaging Symposium 2025
DTSTART:20250131T130000Z
DTEND:20250131T170000Z
UID:01d3a2aa-109b-450a-8e96-5ec102303286
DESCRIPTION:An event connecting researchers working on experimental and co
 mputational aspects of scientific imaging\n\nLocation:\nLecture room\, AMO
 LF
LOCATION:Lecture room\, AMOLF
END:VEVENT
BEGIN:VEVENT
SUMMARY:Lunch tutorial: Democratizing large-scale inverse problems with Py
 Lops
DTSTART:20250404T100000Z
DTEND:20250404T110000Z
UID:d901bbb0-c439-4b6f-ab3b-1af8629308cd
DESCRIPTION:This is the first in the series of lunch tutorials that we org
 anize in the scope of Amsterdam Imaging Hub\, where we aim to bring togeth
 er specialists in experimental and computational aspects of scientific ima
 ging.\n\nLocation:\nCWI\, Room L017
LOCATION:CWI\, Room L017
END:VEVENT
BEGIN:VEVENT
SUMMARY:PhD Defence Vladyslav Andriiashen (CI)
DTSTART:20250515T090000Z
DTEND:20250515T120000Z
UID:383a3641-503d-4aa2-a70f-1c0de93b42f8
DESCRIPTION:Data-driven X-ray image generation for industrial applications
 \n\nLocation:\nEindhoven University of Technology\, Atlas 0.710
LOCATION:Eindhoven University of Technology\, Atlas 0.710
END:VEVENT
BEGIN:VEVENT
SUMMARY:PhD defence of Max Kiss (Computational Imaging)
DTSTART:20251107T115000Z
DTEND:20251107T133000Z
UID:e0d3ef90-67e8-47b9-bf9b-f9237f067d6a
DESCRIPTION:Advancing Learned Algorithms for 2D X-ray Computed Tomography\
 n\nLocation:\nAcademiegebouw of Leiden University (Rapenburg 73\, 2311 GJ 
 Leiden)
LOCATION:Academiegebouw of Leiden University (Rapenburg 73\, 2311 GJ Leide
 n)
END:VEVENT
BEGIN:VEVENT
SUMMARY:Workshop on industrial applications of numerical analysis and mach
 ine learning
DTSTART:20251201T083000Z
DTEND:20251203T130000Z
UID:18d7b4a0-d90d-4b4e-ad4a-1f828a3507ec
DESCRIPTION:This workshop is part of the Research Semester Programme ”Br
 idging Numerical Analysis and Scientific Machine Learning: Advances and Ap
 plications”. The workshop will facilitate open discussion between resear
 chers across different fields together with industrial practitioners.\n\nL
 ocation:\nTuring room\, CWI\, Science Park 125\, Amsterdam\, Netherlands
LOCATION:Turing room\, CWI\, Science Park 125\, Amsterdam\, Netherlands
END:VEVENT
BEGIN:VEVENT
SUMMARY:PhD defence of Adriaan Graas (Computational Imaging)
DTSTART:20260204T131500Z
DTEND:20260204T150000Z
UID:293436ca-441c-43a2-86bc-bfa13698c0cc
DESCRIPTION:Faster X-ray Tomography in Real-world Dynamic Applications\n\n
 Location:\nAcademiegebouw of Leiden University (Rapenburg 73\, 2311 GJ Lei
 den)
LOCATION:Academiegebouw of Leiden University (Rapenburg 73\, 2311 GJ Leide
 n)
END:VEVENT
BEGIN:VEVENT
SUMMARY:Data-driven\, digital\, and dynamic radio astronomy - Jason Hessel
 s (McGill University\, UvA & ASTRON)
DTSTART:20260430T130000Z
DTEND:20260430T150000Z
UID:e5536113-509d-49b2-8fe8-c5fa7336c3ce
DESCRIPTION:AI x Astro Seminar Series\n\nLocation:\nroom L016\, CWI\, Scie
 nce Park 123
LOCATION:room L016\, CWI\, Science Park 123
END:VEVENT
BEGIN:VEVENT
SUMMARY:Learning to sample: Practical Variational Bayesian Inference - Tri
 stan van Leeuwen
DTSTART:20260528T130000Z
DTEND:20260528T150000Z
UID:7f9dade8-4f29-4528-990d-550ae046e99d
DESCRIPTION:AI x Astro Seminar Series\n\nLocation:\nroom L120\, CWI\, Scie
 nce Park 123
LOCATION:room L120\, CWI\, Science Park 123
END:VEVENT
BEGIN:VEVENT
SUMMARY:Deep Learning for Image processing
DTSTART:20260618T130000Z
DTEND:20260618T150000Z
UID:6c892175-621d-41e9-8a44-8f447a638397
DESCRIPTION:AI x Astro Seminar Series\n\nLocation:\nroom L016\, CWI\, Scie
 nce Park 123
LOCATION:room L016\, CWI\, Science Park 123
END:VEVENT
BEGIN:VEVENT
SUMMARY:Astronomical surveys & machine learning – Ting-Yun Cheng
DTSTART:20260716T130000Z
DTEND:20260716T150000Z
UID:06d79dde-ce57-4783-b0c2-08047666c025
DESCRIPTION:AI x Astro Seminar Series\n\nLocation:\nroom L016\, CWI\, Scie
 nce Park 123
LOCATION:room L016\, CWI\, Science Park 123
END:VEVENT
END:VCALENDAR
