BEGIN:VCALENDAR
BEGIN:VEVENT
SUMMARY:QuSoft Seminar: Kelvin Loh (Orange QS)
DTSTART:20210611T090000Z
DTEND:20210611T100000Z
UID:8fce5abd-f48d-4e9a-a768-b2b27ded6825
DESCRIPTION:The QuSoft on-line seminar this week is with Kelvin Loh: Quant
 ify and Quantum Inspire (A variational case study).  For the zoom link ple
 ase contact Jop Briet or Suhasree Patro.\n\nContact:\nSubhasree Patro\nSub
 hasree.Patro@cwi.nl
END:VEVENT
END:VCALENDAR
