BEGIN:VCALENDAR
BEGIN:VEVENT
SUMMARY:PhD Defence Harold Nieuwboer (A&C)
DTSTART:20240131T150000Z
DTEND:20240131T160000Z
UID:ec49ada3-4b62-470c-a577-42c879944843
DESCRIPTION:Thesis: Classical and quantum algorithms for scaling problems\
 n\nContact:\nharoldnieuwb@gmail.com\n\nLocation:\nUvA\, Agnietenkapel Amst
 erdam
LOCATION:UvA\, Agnietenkapel Amsterdam
END:VEVENT
END:VCALENDAR
