BEGIN:VCALENDAR
BEGIN:VEVENT
SUMMARY:Symposium Plausible Neural Reinforcement Learning and Control
DTSTART:20150903T090000Z
DTEND:20150903T140000Z
UID:54a8b586-fe5c-42b7-a16f-660619e3160e
DESCRIPTION:On September 3\, 2015\, CWI will host the symposium Plausible 
 Neural Reinforcement Learning and Control.\n\nLocation:\nroom L016\, at CW
 I
LOCATION:room L016\, at CWI
END:VEVENT
END:VCALENDAR
