BEGIN:VCALENDAR
BEGIN:VEVENT
SUMMARY:StochMod 2026
DTSTART:20260603T070000Z
DTEND:20260605T130000Z
UID:7f696862-d5fc-46f5-a90d-d86d3437f08f
DESCRIPTION:StochMod 2026 will be held at the Centrum Wiskunde & Informati
 ca (CWI) in Amsterdam (NL) on 3-5 June 2026.\n\nLocation:\nCWI\, Sciencepa
 rk 123 and Amsterdam Science Park Congress Centre\, Science Park 125
LOCATION:CWI\, Sciencepark 123 and Amsterdam Science Park Congress Centre\
 , Science Park 125
END:VEVENT
END:VCALENDAR
