BEGIN:VCALENDAR
BEGIN:VEVENT
SUMMARY:SEN Symposium 2026
DTSTART:20260501T070000Z
DTEND:20260401T160000Z
UID:617a0b28-781b-4a7b-882d-6986f85b3936
DESCRIPTION:SEN is the national symposium for Dutch researchers in the fie
 ld of Software Engineering. The goal is to provide a yearly forum bringing
  all of us researchers in this broad field together and reinforcing our ne
 twork. The symposium is focused on the exchange of research results and to
  address new research directions\, related to the societal challenges we a
 re addressing.\n\nLocation:\nWCW Turingzaal\, Science Park 125\, Amsterdam
LOCATION:WCW Turingzaal\, Science Park 125\, Amsterdam
END:VEVENT
END:VCALENDAR
