BEGIN:VCALENDAR
BEGIN:VEVENT
SUMMARY:RISQ Seminar: Random Module Lattices
DTSTART:20260423T120000Z
DTEND:20260423T143000Z
UID:8c9e74b7-7c0f-466d-b1e9-380042be3a07
DESCRIPTION:Two talks on the use of Random ideals and modules\, for rigoro
 us algorithms in Number Theory and Cryptographic Problems.\n\nLocation:\nE
 uler room\, CWI\, Science Park 125\, Amsterdam\, Netherlands
LOCATION:Euler room\, CWI\, Science Park 125\, Amsterdam\, Netherlands
END:VEVENT
END:VCALENDAR
