BEGIN:VCALENDAR
BEGIN:VEVENT
SUMMARY:Uncertainty Quantification Seminar Michael Abdelmalik (TU/e)
DTSTART:20240906T090000Z
DTEND:20240906T100000Z
UID:1a541d3c-bbcd-45c6-9c33-4d4919ccd6b5
DESCRIPTION:Neural Green's Operators for Parametric Partial Differential E
 quations\n\nLocation:\nCWI\, room L017 and online
LOCATION:CWI\, room L017 and online
END:VEVENT
END:VCALENDAR
