BEGIN:VCALENDAR
BEGIN:VEVENT
SUMMARY:Uncertainty Quantification for High-Dimensional Problems - AUTUMN 
 SCHOOL
DTSTART:20241007T080000Z
DTEND:20241011T160000Z
UID:1864c3e6-a0b2-40ca-b0c1-46f30c175ac3
DESCRIPTION:In October and November 2024\, CWI's Scientific Computing grou
 p will organize a semester programme on uncertainty quantificaton. Co-orga
 nizers are: TU Eindhoven\, Radboud University\, TU Delft\, and University 
 of Amsterdam/University College London.\n\nLocation:\nAmsterdam Science Pa
 rk Congress Centre\, Science Park 125
LOCATION:Amsterdam Science Park Congress Centre\, Science Park 125
END:VEVENT
END:VCALENDAR
