BEGIN:VCALENDAR
BEGIN:VEVENT
SUMMARY:Tailored optimization: OPL Hackathon
DTSTART:20260420T070000Z
DTEND:20260422T150000Z
UID:7c104815-fc00-4df9-952f-5541498ba0ae
DESCRIPTION:\n\nLocation:\nCWI\, Sciencepark 123\, Amsterdam
LOCATION:CWI\, Sciencepark 123\, Amsterdam
END:VEVENT
END:VCALENDAR
