BEGIN:VCALENDAR
BEGIN:VEVENT
SUMMARY:Summer school on QA and QEC
DTSTART:20260824T070000Z
DTEND:20260828T140000Z
UID:9ec89526-18b5-42ad-9be0-692268f4c76c
DESCRIPTION:This summer school is part of the Research Semester Programme 
 ‘Quantum Algorithms and Quantum Error Correction’.\n\nLocation:\nWCW T
 uringzaal\, Science Park 125\, Amsterdam
LOCATION:WCW Turingzaal\, Science Park 125\, Amsterdam
END:VEVENT
END:VCALENDAR
