BEGIN:VCALENDAR
BEGIN:VEVENT
SUMMARY:PhaseA Problem-Solving Workshop
DTSTART:20260526T073000Z
DTEND:20260529T150000Z
UID:766fea10-e81c-4fee-80bc-b7985a829d83
DESCRIPTION:This workshop is part of the Research Semester Programme 'Phas
 eCAP: Phase Transitions in Combinatorics\, Algorithms and Probability'.\n\
 nLocation:\nCWI\, Science Park 123\, 1098 XG Amsterdam
LOCATION:CWI\, Science Park 123\, 1098 XG Amsterdam
END:VEVENT
END:VCALENDAR
