BEGIN:VCALENDAR
BEGIN:VEVENT
SUMMARY:PhaseA Plenary Talks
DTSTART:20260529T120000Z
DTEND:20260529T140000Z
UID:b886c365-e4b1-420f-aa9f-a0ff7ef47280
DESCRIPTION:On Friday 29 May 2026\, Leslie Goldberg (University of Oxford)
  and  Amin Coja-Oghlan (TU Dortmund) will give two public lectures as part
  of the final afternoon of the PhaseA Problem-Solving Workshop within the 
 Research Semester Programme PhaseCAP. You are cordially invited to attend 
 these plenary talks. Attendance is free\, but registration is required.\n\
 nLocation:\nNikhef Colloquium Room\, Science Park 105\, Amsterdam
LOCATION:Nikhef Colloquium Room\, Science Park 105\, Amsterdam
END:VEVENT
END:VCALENDAR
