BEGIN:VCALENDAR
BEGIN:VEVENT
SUMMARY:PhD Defence Xiaoran Li (MD)
DTSTART:20231030T100000Z
DTEND:20231030T110000Z
UID:7d4c5288-ed13-4557-a911-ce92adf88fbd
DESCRIPTION:Streamer discharges and their interaction with dielectrics - a
  computational study\n\nLocation:\nroom 0.710 in building Atlas on the TU/
 e campus\, Het Eeuwsel 53\, 5612 AZ Eindhoven
LOCATION:room 0.710 in building Atlas on the TU/e campus\, Het Eeuwsel 53\
 , 5612 AZ Eindhoven
END:VEVENT
END:VCALENDAR
