BEGIN:VCALENDAR
BEGIN:VEVENT
SUMMARY:PhD Defence Arwin Gansekoele (ST)
DTSTART:20250917T074500Z
DTEND:20250917T091500Z
UID:3521f3b5-70ee-4778-a64e-c2e946a0a634
DESCRIPTION:The PhD Defence of Arwin Gansekoele will be on Wednesday 17 Se
 ptember 2025 at Vrije Universiteit Amsterdam on "Deep Learning for Nex-Gen
 eration Communication Technologies"\n\nLocation:\nVrije Universiteit Amste
 rdam\, Auditorium\, De Boelelaan 1105\, Amsterdam
LOCATION:Vrije Universiteit Amsterdam\, Auditorium\, De Boelelaan 1105\, A
 msterdam
END:VEVENT
END:VCALENDAR
