BEGIN:VCALENDAR
BEGIN:VEVENT
SUMMARY:PhD Defence Thijs van Ommen (A&C)
DTSTART:20150610T111500Z
DTEND:20150610T140000Z
UID:c4d6ab3d-bfc9-4703-8342-e3bf5653f0cb
DESCRIPTION:Everybody is invited to attend the PhD Defence of Thijs van Om
 men. The dissertation is entitled 'Better Predictions when Models are Wron
 g or Underspecified'. The informal talk about the thesis will start at 15:
 15. De defense itself starts at 16:15.  Promotor: Prof. Dr. Peter Grunwal
 d (CWI\, A&C/Universiteit Leiden).\n\nLocation:\nAcademiegebouw of Leiden 
 University\, Rapenburg 73\, Leiden
LOCATION:Academiegebouw of Leiden University\, Rapenburg 73\, Leiden
END:VEVENT
END:VCALENDAR
