BEGIN:VCALENDAR
BEGIN:VEVENT
SUMMARY:Meetup ‘Artificial Intelligence and Data Science in Humanitarian
  Logistics’
DTSTART:20180927T123000Z
DTEND:20180927T160000Z
UID:d891e4e8-baf9-48e0-8961-d88215122173
DESCRIPTION:Centrum Wiskunde & Informatica\, the national research institu
 te for mathematics and computer science\, and data analytics agency Bright
  Cape\, kindly invite you to the meetup ‘Artificial Intelligence and Dat
 a Science in Humanitarian Logistics’. Organizations that are active in t
 he domain of  humanitarian logistics are kindly invited to attend this mee
 ting. Participation is free.\n\nContact:\nEsther van Leeuwen\neleeuwen@cwi
 .nl\n\nLocation:\nCWI - L016
LOCATION:CWI - L016
END:VEVENT
END:VCALENDAR
