BEGIN:VCALENDAR
BEGIN:VEVENT
SUMMARY:Large Language Models for media and democracy: wrecking or saving 
 society?
DTSTART:20240423T070000Z
DTEND:20240424T160000Z
UID:700b38cd-f836-40ed-85af-467c5ecae07c
DESCRIPTION:With this workshop we intend to map the salient technical and 
 societal issues that emerged around foundational models and to discuss rec
 ent developments to address them.\n\nLocation:\nCWI\, Turing room\, Scienc
 e Park 125
LOCATION:CWI\, Turing room\, Science Park 125
END:VEVENT
END:VCALENDAR
