BEGIN:VCALENDAR
BEGIN:VEVENT
SUMMARY:FleXRay Lab 5 years anniversary (Semester Programme)
DTSTART:20220519T113000Z
DTEND:20220519T160000Z
UID:36977448-eb01-4f8a-acd1-4e4e6e2c9b48
DESCRIPTION:In this symposium on the occasion of FleX-ray Lab’s five yea
 r anniversary\, we will look back at some of the scientific highlights of 
 the past years\, and outline future plans. In addition\, speakers from dif
 ferent scientific areas will illustrate how they use X-ray CT to answer re
 search questions and what specific imaging challenges arise from their app
 lications.\n\nLocation:\nCWI\, Turing room
LOCATION:CWI\, Turing room
END:VEVENT
END:VCALENDAR
